BEGIN:VCALENDAR
VERSION:2.0
PRODID:-//The Collective a.k.a. Foxy&#039;s Moxie - ECPv6.15.20//NONSGML v1.0//EN
CALSCALE:GREGORIAN
METHOD:PUBLISH
X-WR-CALNAME:The Collective a.k.a. Foxy&#039;s Moxie
X-ORIGINAL-URL:https://www.thecollective.band
X-WR-CALDESC:Events for The Collective a.k.a. Foxy&#039;s Moxie
REFRESH-INTERVAL;VALUE=DURATION:PT1H
X-Robots-Tag:noindex
X-PUBLISHED-TTL:PT1H
BEGIN:VTIMEZONE
TZID:America/New_York
BEGIN:DAYLIGHT
TZOFFSETFROM:-0500
TZOFFSETTO:-0400
TZNAME:EDT
DTSTART:20240310T070000
END:DAYLIGHT
BEGIN:STANDARD
TZOFFSETFROM:-0400
TZOFFSETTO:-0500
TZNAME:EST
DTSTART:20241103T060000
END:STANDARD
BEGIN:DAYLIGHT
TZOFFSETFROM:-0500
TZOFFSETTO:-0400
TZNAME:EDT
DTSTART:20250309T070000
END:DAYLIGHT
BEGIN:STANDARD
TZOFFSETFROM:-0400
TZOFFSETTO:-0500
TZNAME:EST
DTSTART:20251102T060000
END:STANDARD
BEGIN:DAYLIGHT
TZOFFSETFROM:-0500
TZOFFSETTO:-0400
TZNAME:EDT
DTSTART:20260308T070000
END:DAYLIGHT
BEGIN:STANDARD
TZOFFSETFROM:-0400
TZOFFSETTO:-0500
TZNAME:EST
DTSTART:20261101T060000
END:STANDARD
END:VTIMEZONE
BEGIN:VEVENT
DTSTART;TZID=America/New_York:20251025T180000
DTEND;TZID=America/New_York:20251025T210000
DTSTAMP:20260424T040117
CREATED:20250717T095856Z
LAST-MODIFIED:20250717T100642Z
UID:23818-1761415200-1761426000@www.thecollective.band
SUMMARY:Foxy's Moxie a.k.a. The Collective  - VFW Post 764 Halloween Party
DESCRIPTION:The VFW Post 764 is located at 460 Valley Brook Road\, McMurray\, PA 15317. It’s situated in Peters Township\, Washington County\, Pennsylvania\, within an unincorporated area of McMurray. 
URL:https://www.thecollective.band/event/foxys-moxie-a-k-a-the-collective-vfw-post-764-halloween-party/
LOCATION:VFW Post 764\, 460 Valley Brook Rd\, McMurray\, PA\, 15317\, United States
ATTACH;FMTTYPE=image/jpeg:https://www.thecollective.band/wp-content/uploads/2021/02/VFW-Post-764-McMurray-PA-Logo.jpg
END:VEVENT
END:VCALENDAR