BEGIN:VCALENDAR
VERSION:2.0
PRODID:-//The Collective a.k.a. Foxy&#039;s Moxie - ECPv6.15.20//NONSGML v1.0//EN
CALSCALE:GREGORIAN
METHOD:PUBLISH
X-WR-CALNAME:The Collective a.k.a. Foxy&#039;s Moxie
X-ORIGINAL-URL:https://www.thecollective.band
X-WR-CALDESC:Events for The Collective a.k.a. Foxy&#039;s Moxie
REFRESH-INTERVAL;VALUE=DURATION:PT1H
X-Robots-Tag:noindex
X-PUBLISHED-TTL:PT1H
BEGIN:VTIMEZONE
TZID:America/New_York
BEGIN:DAYLIGHT
TZOFFSETFROM:-0500
TZOFFSETTO:-0400
TZNAME:EDT
DTSTART:20240310T070000
END:DAYLIGHT
BEGIN:STANDARD
TZOFFSETFROM:-0400
TZOFFSETTO:-0500
TZNAME:EST
DTSTART:20241103T060000
END:STANDARD
BEGIN:DAYLIGHT
TZOFFSETFROM:-0500
TZOFFSETTO:-0400
TZNAME:EDT
DTSTART:20250309T070000
END:DAYLIGHT
BEGIN:STANDARD
TZOFFSETFROM:-0400
TZOFFSETTO:-0500
TZNAME:EST
DTSTART:20251102T060000
END:STANDARD
BEGIN:DAYLIGHT
TZOFFSETFROM:-0500
TZOFFSETTO:-0400
TZNAME:EDT
DTSTART:20260308T070000
END:DAYLIGHT
BEGIN:STANDARD
TZOFFSETFROM:-0400
TZOFFSETTO:-0500
TZNAME:EST
DTSTART:20261101T060000
END:STANDARD
END:VTIMEZONE
BEGIN:VEVENT
DTSTART;VALUE=DATE:20250927
DTEND;VALUE=DATE:20250929
DTSTAMP:20260424T040513
CREATED:20250627T163853Z
LAST-MODIFIED:20250717T101459Z
UID:23721-1758931200-1759103999@www.thecollective.band
SUMMARY:Foxy's Moxie a.k.a. The Collective - - Ruff Ride Charity Event UPMC Cooper Fieldhouse
DESCRIPTION:UPMC Cooper Fieldhouse\, Pittsburgh\, PADate: September 27\, 2025⏰ Time: TBALearn more about Ruff Ride Pittsburgh \nAbout the Event\nRuff Ride Pittsburgh 2025 is more than just an exciting community gathering—it’s a powerful\, purpose-driven fundraiser organized by the incredible team at Team Foster. This annual event is designed to raise critical funds and awareness for the life-changing mission of pairing Service Dogs with Veterans who need them most. \nFounded in honor of Captain Erick Foster\, a decorated Army Ranger who gave his life in service to our country\, Team Foster is a nonprofit organization committed to ensuring that no Veteran fights alone. Through advocacy\, community outreach\, and engaging events like Ruff Ride\, Team Foster helps provide fully trained\, professionally matched service dogs to disabled Veterans—at no cost to the recipient. These dogs are essential partners\, offering emotional and physical support that often transforms lives. \nAt the heart of the Pittsburgh chapter’s efforts is Ruff Ride Pittsburgh\, a dynamic event featuring live music\, cycling challenges\, inspiring guest speakers\, and an unmatched sense of camaraderie. By participating\, attending\, or donating\, you’re directly supporting the training\, placement\, and lifelong care of service dogs for Veterans in need. \nThis year’s Ruff Ride is taking place at the UPMC Cooper Fieldhouse\, one of Pittsburgh’s premier indoor venues\, known for its cutting-edge design and immersive acoustics. It’s the perfect backdrop for the high-energy\, heartfelt performance Foxy’s Moxie (a.k.a. The Collective) is proud to deliver. Convenient parking is available in the garage adjacent to the venue\, making attendance as easy as it is meaningful. \n️ Join us on September 27\, 2025—time to be announced soon—for an unforgettable event that honors sacrifice\, celebrates resilience\, and helps pave the way for healing through the power of Service Dogs. \nLearn more about Ruff Ride PittsburghSupport the mission at Team Foster \nMeet the Band Behind the Music\nWe are Foxy’s Moxie\, also known as The Collective—a band that’s as passionate about music as we are about our mission. Our sound spans the decades\, performing hits from the 1950s through today\, blending soul\, rock\, and heartfelt energy into every performance. \nBut what makes this performance truly special is our connection to the cause: \n\n\n️ Three members of our band are Disabled Veterans who understand firsthand the challenges faced by those returning from service. \n\n\nFoxy\, our beloved Long-Haired German Shepherd and certified Medical Service Dog\, is not only our on-stage companion but the heart and soul of the band. Wearing her iconic red hearing protection\, Foxy lies faithfully beside her musician—offering balance support\, emotional grounding\, and a powerful symbol of resilience and hope. \n\n\nThrough our music\, we aim to entertain\, inspire\, and support the mission of Ruff Ride. We believe in the healing bond between Veterans and Service Dogs\, and we’re proud to lend our voices—and our story—to this cause.
URL:https://www.thecollective.band/event/foxys-moxie-a-k-a-the-collective-ruff-ride-charity-event-upmc-cooper-fieldhouse/
LOCATION:UPMC Cooper Fieldhouse\, 1304 Forbes Ave\, Pittsburgh\, PA\, 15282\, United States
ATTACH;FMTTYPE=image/webp:https://www.thecollective.band/wp-content/uploads/2025/06/Ruff-Ride-Pittsburgh.webp
END:VEVENT
END:VCALENDAR